BEGIN:VCALENDAR
VERSION:2.0
PRODID:-//Flor Stammer - ECPv6.15.17.1//NONSGML v1.0//EN
CALSCALE:GREGORIAN
METHOD:PUBLISH
X-WR-CALNAME:Flor Stammer
X-ORIGINAL-URL:https://florstammer.ch
X-WR-CALDESC:Veranstaltungen im Flor Stammer
REFRESH-INTERVAL;VALUE=DURATION:PT1H
X-Robots-Tag:noindex
X-PUBLISHED-TTL:PT1H
BEGIN:VTIMEZONE
TZID:Europe/Berlin
BEGIN:DAYLIGHT
TZOFFSETFROM:+0100
TZOFFSETTO:+0200
TZNAME:CEST
DTSTART:20250330T010000
END:DAYLIGHT
BEGIN:STANDARD
TZOFFSETFROM:+0200
TZOFFSETTO:+0100
TZNAME:CET
DTSTART:20251026T010000
END:STANDARD
BEGIN:DAYLIGHT
TZOFFSETFROM:+0100
TZOFFSETTO:+0200
TZNAME:CEST
DTSTART:20260329T010000
END:DAYLIGHT
BEGIN:STANDARD
TZOFFSETFROM:+0200
TZOFFSETTO:+0100
TZNAME:CET
DTSTART:20261025T010000
END:STANDARD
BEGIN:DAYLIGHT
TZOFFSETFROM:+0100
TZOFFSETTO:+0200
TZNAME:CEST
DTSTART:20270328T010000
END:DAYLIGHT
BEGIN:STANDARD
TZOFFSETFROM:+0200
TZOFFSETTO:+0100
TZNAME:CET
DTSTART:20271031T010000
END:STANDARD
END:VTIMEZONE
BEGIN:VEVENT
DTSTART;TZID=Europe/Berlin:20260531T180000
DTEND;TZID=Europe/Berlin:20260531T180000
DTSTAMP:20260424T120927
CREATED:20260311T150711Z
LAST-MODIFIED:20260311T151529Z
UID:760-1780250400-1780250400@florstammer.ch
SUMMARY:Spiel mir das Lied... von Morricone
DESCRIPTION:Tribute to Ennio Morricone mit Hanna Scheuring\, Daniel Rohr\, Pepe Lienhard und dem Rigiblick Symphonic Orchestra.
URL:https://florstammer.ch/veranstaltung/spiel-mir-das-lied-von-morricone/
LOCATION:Theater Rigiblick\, Germaniastrasse 99\, 8044 Zürich\, Switzerland
END:VEVENT
BEGIN:VEVENT
DTSTART;TZID=Europe/Berlin:20260613T200000
DTEND;TZID=Europe/Berlin:20260613T200000
DTSTAMP:20260424T120927
CREATED:20251128T210544Z
LAST-MODIFIED:20260311T150936Z
UID:660-1781380800-1781380800@florstammer.ch
SUMMARY:Sommernacht Klangwanderung
DESCRIPTION:Kammerorchester des Musik-Collegiums Schaffhausen\n\nAnnedore Neufeld\, Leitung\nJohannes Herzog (Cello)\nFlor Stammer (Bratsche)\nJuliette Hsieh (Violine)
URL:https://florstammer.ch/veranstaltung/sommernacht-klangwanderung/
LOCATION:Münster Schaffhausen\, Klosterstrasse 16\, 8200 Schaffhausen\, Switzerland
END:VEVENT
BEGIN:VEVENT
DTSTART;TZID=Europe/Berlin:20260614T170000
DTEND;TZID=Europe/Berlin:20260614T170000
DTSTAMP:20260424T120927
CREATED:20260113T212740Z
LAST-MODIFIED:20260311T151718Z
UID:753-1781456400-1781456400@florstammer.ch
SUMMARY:Sommernacht Klangwanderung
DESCRIPTION:Kammerorchester des Musik-Collegiums Schaffhausen\nAnnedore Neufeld\, Leitung\nJohannes Herzog (Cello)\nFlor Stammer (Bratsche)\nJuliette Hsieh (Violine)
URL:https://florstammer.ch/veranstaltung/konzert-kammerorchester-mcs/
LOCATION:Bergkirche St. Moritz\, Hallau\, Bergkirche\, 8215 Hallau\, Switzerland
END:VEVENT
BEGIN:VEVENT
DTSTART;VALUE=DATE:20260620
DTEND;VALUE=DATE:20260621
DTSTAMP:20260424T120927
CREATED:20260311T151407Z
LAST-MODIFIED:20260311T151428Z
UID:764-1781913600-1781999999@florstammer.ch
SUMMARY:Sommernachtsball
DESCRIPTION:Festival Chamber Orchestra Zurich
URL:https://florstammer.ch/veranstaltung/sommernachtsball/
LOCATION:Zürich HB\, Bahnhofplatz\, 8001 Zürich
END:VEVENT
END:VCALENDAR